BEGIN:VCALENDAR
VERSION:2.0
PRODID:-//&Eacute;viction - ECPv6.15.20//NONSGML v1.0//EN
CALSCALE:GREGORIAN
METHOD:PUBLISH
X-WR-CALNAME:&Eacute;viction
X-ORIGINAL-URL:https://eviction-lefilm.ca
X-WR-CALDESC:Événements pour &Eacute;viction
REFRESH-INTERVAL;VALUE=DURATION:PT1H
X-Robots-Tag:noindex
X-PUBLISHED-TTL:PT1H
BEGIN:VTIMEZONE
TZID:UTC
BEGIN:STANDARD
TZOFFSETFROM:+0000
TZOFFSETTO:+0000
TZNAME:UTC
DTSTART:20230101T000000
END:STANDARD
END:VTIMEZONE
BEGIN:VEVENT
DTSTART;TZID=UTC:20240519T143000
DTEND;TZID=UTC:20240519T180000
DTSTAMP:20260426T012956
CREATED:20240505T185052Z
LAST-MODIFIED:20240505T191559Z
UID:914-1716129000-1716141600@eviction-lefilm.ca
SUMMARY:Cinéma Public
DESCRIPTION:
URL:https://eviction-lefilm.ca/event/cinema-public-avec-equipe-2/
LOCATION:Cinéma Public\, 505 Rue Jean-Talon E\, Montréal\, H2R 1T6\, Canada
END:VEVENT
BEGIN:VEVENT
DTSTART;TZID=UTC:20240519T150000
DTEND;TZID=UTC:20240519T190000
DTSTAMP:20260426T012956
CREATED:20240505T185420Z
LAST-MODIFIED:20240708T141558Z
UID:920-1716130800-1716145200@eviction-lefilm.ca
SUMMARY:Cinémathèque québécoise
DESCRIPTION:
URL:https://eviction-lefilm.ca/event/cinematheque-2/
LOCATION:Cinémathèque québécoise\, 335 Boul. de Maisonneuve E\, Montréal\, Québec\, H2X 1K1\, Canada
END:VEVENT
END:VCALENDAR