BEGIN:VCALENDAR
VERSION:2.0
PRODID:-//&Eacute;viction - ECPv6.15.20//NONSGML v1.0//EN
CALSCALE:GREGORIAN
METHOD:PUBLISH
X-WR-CALNAME:&Eacute;viction
X-ORIGINAL-URL:https://eviction-lefilm.ca
X-WR-CALDESC:Événements pour &Eacute;viction
REFRESH-INTERVAL;VALUE=DURATION:PT1H
X-Robots-Tag:noindex
X-PUBLISHED-TTL:PT1H
BEGIN:VTIMEZONE
TZID:UTC
BEGIN:STANDARD
TZOFFSETFROM:+0000
TZOFFSETTO:+0000
TZNAME:UTC
DTSTART:20230101T000000
END:STANDARD
END:VTIMEZONE
BEGIN:VEVENT
DTSTART;TZID=UTC:20240628T163000
DTEND;TZID=UTC:20240628T193000
DTSTAMP:20260425T235919
CREATED:20240626T151724Z
LAST-MODIFIED:20240626T151823Z
UID:1102-1719592200-1719603000@eviction-lefilm.ca
SUMMARY:Cinéma Public
DESCRIPTION:
URL:https://eviction-lefilm.ca/event/cinema-public-6/
LOCATION:Cinéma Public\, 505 Rue Jean-Talon E\, Montréal\, H2R 1T6\, Canada
END:VEVENT
END:VCALENDAR