BEGIN:VCALENDAR
VERSION:2.0
PRODID:-//&Eacute;viction - ECPv6.15.20//NONSGML v1.0//EN
CALSCALE:GREGORIAN
METHOD:PUBLISH
X-WR-CALNAME:&Eacute;viction
X-ORIGINAL-URL:https://eviction-lefilm.ca
X-WR-CALDESC:Événements pour &Eacute;viction
REFRESH-INTERVAL;VALUE=DURATION:PT1H
X-Robots-Tag:noindex
X-PUBLISHED-TTL:PT1H
BEGIN:VTIMEZONE
TZID:UTC
BEGIN:STANDARD
TZOFFSETFROM:+0000
TZOFFSETTO:+0000
TZNAME:UTC
DTSTART:20230101T000000
END:STANDARD
END:VTIMEZONE
BEGIN:VEVENT
DTSTART;TZID=UTC:20240828T170000
DTEND;TZID=UTC:20240828T220000
DTSTAMP:20260425T193727
CREATED:20240812T101320Z
LAST-MODIFIED:20241113T161735Z
UID:1150-1724864400-1724882400@eviction-lefilm.ca
SUMMARY:Diners St-Louis
DESCRIPTION:
URL:https://eviction-lefilm.ca/event/diners-st-louis/
LOCATION:Diners St-Louis\, 1818 Rue Gilford\, Montréal\, Canada
END:VEVENT
BEGIN:VEVENT
DTSTART;TZID=UTC:20240828T203000
DTEND;TZID=UTC:20240828T223000
DTSTAMP:20260425T193727
CREATED:20240723T204345Z
LAST-MODIFIED:20240723T204438Z
UID:1137-1724877000-1724884200@eviction-lefilm.ca
SUMMARY:Caravane du RAPSIM
DESCRIPTION:
URL:https://eviction-lefilm.ca/event/caravane-du-rapsim/
LOCATION:Terrasse St-Georges du Théâtre Paradoxe\, 5959 Bd Monk\, Montréal\, H4E 3H5\, Canada
END:VEVENT
END:VCALENDAR