BEGIN:VCALENDAR
VERSION:2.0
PRODID:-//&Eacute;viction - ECPv6.15.20//NONSGML v1.0//EN
CALSCALE:GREGORIAN
METHOD:PUBLISH
X-WR-CALNAME:&Eacute;viction
X-ORIGINAL-URL:https://eviction-lefilm.ca
X-WR-CALDESC:Événements pour &Eacute;viction
REFRESH-INTERVAL;VALUE=DURATION:PT1H
X-Robots-Tag:noindex
X-PUBLISHED-TTL:PT1H
BEGIN:VTIMEZONE
TZID:UTC
BEGIN:STANDARD
TZOFFSETFROM:+0000
TZOFFSETTO:+0000
TZNAME:UTC
DTSTART:20230101T000000
END:STANDARD
END:VTIMEZONE
BEGIN:VEVENT
DTSTART;TZID=UTC:20241003T180000
DTEND;TZID=UTC:20241003T210000
DTSTAMP:20260425T175530
CREATED:20240903T112442Z
LAST-MODIFIED:20240917T153849Z
UID:1166-1727978400-1727989200@eviction-lefilm.ca
SUMMARY:Ciné-Socio Université du Québec à Montréal
DESCRIPTION:
URL:https://eviction-lefilm.ca/event/cine-socio-universite-du-quebec-a-montreal/
LOCATION:UQÀM (salle DSM465)\, 405 Rue Sainte-Catherine Est\, Montréal\, H2L 2C4\, Canada
END:VEVENT
END:VCALENDAR