BEGIN:VCALENDAR
VERSION:2.0
PRODID:-//&Eacute;viction - ECPv6.15.20//NONSGML v1.0//EN
CALSCALE:GREGORIAN
METHOD:PUBLISH
X-WR-CALNAME:&Eacute;viction
X-ORIGINAL-URL:https://eviction-lefilm.ca
X-WR-CALDESC:Événements pour &Eacute;viction
REFRESH-INTERVAL;VALUE=DURATION:PT1H
X-Robots-Tag:noindex
X-PUBLISHED-TTL:PT1H
BEGIN:VTIMEZONE
TZID:UTC
BEGIN:STANDARD
TZOFFSETFROM:+0000
TZOFFSETTO:+0000
TZNAME:UTC
DTSTART:20230101T000000
END:STANDARD
END:VTIMEZONE
BEGIN:VEVENT
DTSTART;TZID=UTC:20241028T183000
DTEND;TZID=UTC:20241028T203000
DTSTAMP:20260425T160528
CREATED:20240926T213851Z
LAST-MODIFIED:20241003T191311Z
UID:1182-1730140200-1730147400@eviction-lefilm.ca
SUMMARY:La Maison du Monde
DESCRIPTION:
URL:https://eviction-lefilm.ca/event/la-maison-du-monde/
LOCATION:La Maison du Monde\, 20 Rue Chabanel O\, Montréal\, Québec\, H2N 1E6\, Canada
END:VEVENT
END:VCALENDAR