BEGIN:VCALENDAR
VERSION:2.0
PRODID:-//&Eacute;viction - ECPv6.15.20//NONSGML v1.0//EN
CALSCALE:GREGORIAN
METHOD:PUBLISH
X-WR-CALNAME:&Eacute;viction
X-ORIGINAL-URL:https://eviction-lefilm.ca
X-WR-CALDESC:Événements pour &Eacute;viction
REFRESH-INTERVAL;VALUE=DURATION:PT1H
X-Robots-Tag:noindex
X-PUBLISHED-TTL:PT1H
BEGIN:VTIMEZONE
TZID:UTC
BEGIN:STANDARD
TZOFFSETFROM:+0000
TZOFFSETTO:+0000
TZNAME:UTC
DTSTART:20230101T000000
END:STANDARD
END:VTIMEZONE
BEGIN:VEVENT
DTSTART;TZID=UTC:20241109T170000
DTEND;TZID=UTC:20241109T200000
DTSTAMP:20260425T160649
CREATED:20241029T184956Z
LAST-MODIFIED:20241029T184956Z
UID:1202-1731171600-1731182400@eviction-lefilm.ca
SUMMARY:Lgbt+ Baie-des-Chaleurs
DESCRIPTION:
URL:https://eviction-lefilm.ca/event/lgbt-baie-des-chaleurs/
LOCATION:Club Rustico St-Alexis\, 116\, rang Saint-Benoit\, Saint-Alexis-de-Matapédia\, Québec\, G0J 2E0\, Canada
END:VEVENT
END:VCALENDAR