BEGIN:VCALENDAR
VERSION:2.0
PRODID:-//&Eacute;viction - ECPv6.15.20//NONSGML v1.0//EN
CALSCALE:GREGORIAN
METHOD:PUBLISH
X-ORIGINAL-URL:https://eviction-lefilm.ca
X-WR-CALDESC:Événements pour &Eacute;viction
REFRESH-INTERVAL;VALUE=DURATION:PT1H
X-Robots-Tag:noindex
X-PUBLISHED-TTL:PT1H
BEGIN:VTIMEZONE
TZID:UTC
BEGIN:STANDARD
TZOFFSETFROM:+0000
TZOFFSETTO:+0000
TZNAME:UTC
DTSTART:20230101T000000
END:STANDARD
END:VTIMEZONE
BEGIN:VEVENT
DTSTART;TZID=UTC:20241120T140000
DTEND;TZID=UTC:20241120T170000
DTSTAMP:20260425T160739
CREATED:20241019T175024Z
LAST-MODIFIED:20241106T020550Z
UID:1199-1732111200-1732122000@eviction-lefilm.ca
SUMMARY:Festival Chéries-Chéris
DESCRIPTION:
URL:https://eviction-lefilm.ca/event/festival-cheries-cheris-2/
LOCATION:MK2 Beaubourg\, 50 Rue Rambuteau\, Paris\, 75003\, France
END:VEVENT
BEGIN:VEVENT
DTSTART;TZID=UTC:20241120T190000
DTEND;TZID=UTC:20241120T220000
DTSTAMP:20260425T160739
CREATED:20241106T021848Z
LAST-MODIFIED:20241113T162115Z
UID:1217-1732129200-1732140000@eviction-lefilm.ca
SUMMARY:Transgender Day of Remembrance
DESCRIPTION:
URL:https://eviction-lefilm.ca/event/transgender-day-of-remembrance/
LOCATION:Centre LGBTQIA+\, 17-21 rue du Chevalier Roze\, Marseille\, 13002\, France
END:VEVENT
END:VCALENDAR