BEGIN:VCALENDAR
VERSION:2.0
PRODID:-//&Eacute;viction - ECPv6.15.20//NONSGML v1.0//EN
CALSCALE:GREGORIAN
METHOD:PUBLISH
X-WR-CALNAME:&Eacute;viction
X-ORIGINAL-URL:https://eviction-lefilm.ca
X-WR-CALDESC:Événements pour &Eacute;viction
REFRESH-INTERVAL;VALUE=DURATION:PT1H
X-Robots-Tag:noindex
X-PUBLISHED-TTL:PT1H
BEGIN:VTIMEZONE
TZID:UTC
BEGIN:STANDARD
TZOFFSETFROM:+0000
TZOFFSETTO:+0000
TZNAME:UTC
DTSTART:20230101T000000
END:STANDARD
END:VTIMEZONE
BEGIN:VEVENT
DTSTART;TZID=UTC:20241128T193000
DTEND;TZID=UTC:20241128T230000
DTSTAMP:20260425T141841
CREATED:20241106T210628Z
LAST-MODIFIED:20241113T161148Z
UID:1221-1732822200-1732834800@eviction-lefilm.ca
SUMMARY:Cinéma Les Arcades
DESCRIPTION:
URL:https://eviction-lefilm.ca/event/cinema-les-arcades/
LOCATION:Cinéma Les Arcades\, 77 Rue Félix Faure\, Cannes\, 06400\, France
END:VEVENT
END:VCALENDAR