BEGIN:VCALENDAR
VERSION:2.0
PRODID:-//&Eacute;viction - ECPv6.15.20//NONSGML v1.0//EN
CALSCALE:GREGORIAN
METHOD:PUBLISH
X-WR-CALNAME:&Eacute;viction
X-ORIGINAL-URL:https://eviction-lefilm.ca
X-WR-CALDESC:Événements pour &Eacute;viction
REFRESH-INTERVAL;VALUE=DURATION:PT1H
X-Robots-Tag:noindex
X-PUBLISHED-TTL:PT1H
BEGIN:VTIMEZONE
TZID:UTC
BEGIN:STANDARD
TZOFFSETFROM:+0000
TZOFFSETTO:+0000
TZNAME:UTC
DTSTART:20240101T000000
END:STANDARD
END:VTIMEZONE
BEGIN:VEVENT
DTSTART;TZID=UTC:20251120T180000
DTEND;TZID=UTC:20251120T210000
DTSTAMP:20260424T201636
CREATED:20251103T205619Z
LAST-MODIFIED:20251103T205619Z
UID:1426-1763661600-1763672400@eviction-lefilm.ca
SUMMARY:Association des locataires de l'Abitibi-Témiscamingue
DESCRIPTION:
URL:https://eviction-lefilm.ca/event/association-des-locataires-de-labitibi-temiscamingue/
LOCATION:Grand salon de la résidence des filles\, 555 boulevard du Collège\, Rouyn-Noranda\, Québec\, J9X 0G9\, Canada
END:VEVENT
END:VCALENDAR