BEGIN:VCALENDAR
VERSION:2.0
PRODID:-//&Eacute;viction - ECPv6.15.20//NONSGML v1.0//EN
CALSCALE:GREGORIAN
METHOD:PUBLISH
X-WR-CALNAME:&Eacute;viction
X-ORIGINAL-URL:https://eviction-lefilm.ca
X-WR-CALDESC:Événements pour &Eacute;viction
REFRESH-INTERVAL;VALUE=DURATION:PT1H
X-Robots-Tag:noindex
X-PUBLISHED-TTL:PT1H
BEGIN:VTIMEZONE
TZID:UTC
BEGIN:STANDARD
TZOFFSETFROM:+0000
TZOFFSETTO:+0000
TZNAME:UTC
DTSTART:20230101T000000
END:STANDARD
END:VTIMEZONE
BEGIN:VEVENT
DTSTART;TZID=UTC:20260409T180000
DTEND;TZID=UTC:20260409T210000
DTSTAMP:20260424T130044
CREATED:20260210T230516Z
LAST-MODIFIED:20260306T184521Z
UID:1445-1775757600-1775768400@eviction-lefilm.ca
SUMMARY:Un toit pour tous·tes Hochelaga-Maisonneuve
DESCRIPTION:
URL:https://eviction-lefilm.ca/event/un-toit-pour-tous%c2%b7tes-hochelaga-maisonneuve/
LOCATION:Cabaret de Curiosités\, 4264 Rue Sainte-Catherine E\, Montréal\, Québec\, H1V 3R6\, Canada
END:VEVENT
BEGIN:VEVENT
DTSTART;TZID=UTC:20260129T200000
DTEND;TZID=UTC:20260129T230000
DTSTAMP:20260424T130044
CREATED:20260101T001758Z
LAST-MODIFIED:20260109T130125Z
UID:1440-1769716800-1769727600@eviction-lefilm.ca
SUMMARY:Est-ce que tu réalises ?
DESCRIPTION:
URL:https://eviction-lefilm.ca/event/est-ce-que-tu-realises/
LOCATION:Boskop\, 60 rue Sébastien Gryphe\, Lyon\, 69007\, France
END:VEVENT
BEGIN:VEVENT
DTSTART;TZID=UTC:20251203T180000
DTEND;TZID=UTC:20251203T210000
DTSTAMP:20260424T130044
CREATED:20251207T204637Z
LAST-MODIFIED:20251207T204637Z
UID:1436-1764784800-1764795600@eviction-lefilm.ca
SUMMARY:F-SIDES
DESCRIPTION:
URL:https://eviction-lefilm.ca/event/f-sides/
LOCATION:Cinema Elvire Popesco\, Strada Alexandru Philippide 12\, București\, 020467\, Romania
END:VEVENT
BEGIN:VEVENT
DTSTART;TZID=UTC:20251127T170000
DTEND;TZID=UTC:20251127T200000
DTSTAMP:20260424T130044
CREATED:20251103T205730Z
LAST-MODIFIED:20251118T020239Z
UID:1431-1764262800-1764273600@eviction-lefilm.ca
SUMMARY:Association des locataires de l'Abitibi-Témiscamingue
DESCRIPTION:
URL:https://eviction-lefilm.ca/event/association-des-locataires-de-labitibi-temiscamingue-2/
LOCATION:Centre de femmes l’Érige\, 35 3e Avenue Ouest\, La Sarre\, Québec\, J9Z 1G8\, Canada
END:VEVENT
BEGIN:VEVENT
DTSTART;TZID=UTC:20251120T180000
DTEND;TZID=UTC:20251120T210000
DTSTAMP:20260424T130044
CREATED:20251103T205619Z
LAST-MODIFIED:20251103T205619Z
UID:1426-1763661600-1763672400@eviction-lefilm.ca
SUMMARY:Association des locataires de l'Abitibi-Témiscamingue
DESCRIPTION:
URL:https://eviction-lefilm.ca/event/association-des-locataires-de-labitibi-temiscamingue/
LOCATION:Grand salon de la résidence des filles\, 555 boulevard du Collège\, Rouyn-Noranda\, Québec\, J9X 0G9\, Canada
END:VEVENT
BEGIN:VEVENT
DTSTART;TZID=UTC:20251011T193000
DTEND;TZID=UTC:20251011T213000
DTSTAMP:20260424T130044
CREATED:20250826T164306Z
LAST-MODIFIED:20250826T164648Z
UID:1399-1760211000-1760218200@eviction-lefilm.ca
SUMMARY:Cinema Queer México
DESCRIPTION:
URL:https://eviction-lefilm.ca/event/cinema-queer-mexico-2/
LOCATION:Casa de la Contracultura\, José María Morelos 69\, col. Centro\, Santiago de Querétaro\, 76000\, Mexico
END:VEVENT
BEGIN:VEVENT
DTSTART;TZID=UTC:20251007T190000
DTEND;TZID=UTC:20251007T210000
DTSTAMP:20260424T130044
CREATED:20251007T130853Z
LAST-MODIFIED:20251007T131329Z
UID:1419-1759863600-1759870800@eviction-lefilm.ca
SUMMARY:Festival Filministes en tournée
DESCRIPTION:
URL:https://eviction-lefilm.ca/event/festival-filministes-en-tournee/
LOCATION:Bibliothèque L’Octogone\, 1080 Av Dollard\, Montréal\, Québec\, H8N 2T9\, Canada
END:VEVENT
BEGIN:VEVENT
DTSTART;TZID=UTC:20250912T193000
DTEND;TZID=UTC:20250912T220000
DTSTAMP:20260424T130044
CREATED:20250415T003151Z
LAST-MODIFIED:20250906T151800Z
UID:1360-1757705400-1757714400@eviction-lefilm.ca
SUMMARY:Comité Logement Citoyen Saint-Michel
DESCRIPTION:
URL:https://eviction-lefilm.ca/event/comite-logement-citoyen-saint-michel/
LOCATION:Maison du citoyen\, 7501 Rue François-Perrault\, Montréal\, Québec\, H2A 1M1\, Canada
END:VEVENT
BEGIN:VEVENT
DTSTART;TZID=UTC:20250906T150000
DTEND;TZID=UTC:20250906T170000
DTSTAMP:20260424T130044
CREATED:20250826T164113Z
LAST-MODIFIED:20250826T164719Z
UID:1396-1757170800-1757178000@eviction-lefilm.ca
SUMMARY:Cinema Queer México
DESCRIPTION:
URL:https://eviction-lefilm.ca/event/cinema-queer-mexico/
LOCATION:Casa del Lago\, UNAM\, Bosque de Chapultepec Primera Sección s/n\, col. San Miguel Chapultepec I Secc.\, alc. Miguel Hidalgo\, Ciudad de México\, 11850\, Mexico
END:VEVENT
BEGIN:VEVENT
DTSTART;VALUE=DATE:20250824
DTEND;VALUE=DATE:20250825
DTSTAMP:20260424T130044
CREATED:20250815T144851Z
LAST-MODIFIED:20250901T154832Z
UID:1392-1755993600-1756079999@eviction-lefilm.ca
SUMMARY:Festival Les Déviantes
DESCRIPTION:
URL:https://eviction-lefilm.ca/event/festival-les-deviantes/
LOCATION:Chambon-sur-Voueize\, France
END:VEVENT
BEGIN:VEVENT
DTSTART;TZID=UTC:20250619T190000
DTEND;TZID=UTC:20250619T220000
DTSTAMP:20260424T130044
CREATED:20250507T194627Z
LAST-MODIFIED:20250612T162430Z
UID:1367-1750359600-1750370400@eviction-lefilm.ca
SUMMARY:Association team sama
DESCRIPTION:
URL:https://eviction-lefilm.ca/event/association-team-sama/
LOCATION:Eco-lieu Jeanot\, Route de Maa\, Lieu dit Paye\, Rion-des-Landes\, 40370\, France
END:VEVENT
BEGIN:VEVENT
DTSTART;TZID=UTC:20250615T193000
DTEND;TZID=UTC:20250615T230000
DTSTAMP:20260424T130044
CREATED:20250507T194445Z
LAST-MODIFIED:20250606T152540Z
UID:1363-1750015800-1750028400@eviction-lefilm.ca
SUMMARY:Collectif GNOUP
DESCRIPTION:
URL:https://eviction-lefilm.ca/event/collectif-gnoup/
LOCATION:102\, 102 Rue d'Alembert\, Grenoble\, 38000\, France
END:VEVENT
BEGIN:VEVENT
DTSTART;TZID=UTC:20250415T180000
DTEND;TZID=UTC:20250415T210000
DTSTAMP:20260424T130044
CREATED:20250329T142430Z
LAST-MODIFIED:20250403T160521Z
UID:1351-1744740000-1744750800@eviction-lefilm.ca
SUMMARY:CUTV
DESCRIPTION:
URL:https://eviction-lefilm.ca/event/cutv/
LOCATION:Coop Bar Milton Parc\, 3714 Av. du Parc\, Montréal\, Québec\, H2X 2J1\, Canada
END:VEVENT
BEGIN:VEVENT
DTSTART;TZID=UTC:20250412T190000
DTEND;TZID=UTC:20250412T230000
DTSTAMP:20260424T130044
CREATED:20250120T212203Z
LAST-MODIFIED:20250215T210225Z
UID:1291-1744484400-1744498800@eviction-lefilm.ca
SUMMARY:Café libre
DESCRIPTION:
URL:https://eviction-lefilm.ca/event/cafe-libre/
LOCATION:Café libre\, 400 Rue St-Michel\, Sainte-Émélie-de-l'Énergie\, Québec\, J0K 2K0\, Canada
END:VEVENT
BEGIN:VEVENT
DTSTART;TZID=UTC:20250403T173000
DTEND;TZID=UTC:20250403T203000
DTSTAMP:20260424T130044
CREATED:20250226T225419Z
LAST-MODIFIED:20250310T141434Z
UID:1321-1743701400-1743712200@eviction-lefilm.ca
SUMMARY:Concordia PSGSA
DESCRIPTION:
URL:https://eviction-lefilm.ca/event/concordia-psgsa/
LOCATION:Édifice Hall de l’Université Concordia (room H1220)\, 1455 Blvd. De Maisonneuve Ouest\, Montréal\, Québec\, H3G 1M8\, Canada
END:VEVENT
BEGIN:VEVENT
DTSTART;TZID=UTC:20250326T180000
DTEND;TZID=UTC:20250326T213000
DTSTAMP:20260424T130044
CREATED:20250302T013050Z
LAST-MODIFIED:20250326T154432Z
UID:1334-1743012000-1743024600@eviction-lefilm.ca
SUMMARY:Yaaj México
DESCRIPTION:
URL:https://eviction-lefilm.ca/event/uam-cuajimalpa/
LOCATION:Delegación General de Québec en México\, Hipólito Taine 411\, Col. Bosques de Chapultepec\, Miguel Hidalgo\, Ciudad de México\, 11580\, Mexico
END:VEVENT
BEGIN:VEVENT
DTSTART;VALUE=DATE:20250326
DTEND;VALUE=DATE:20250327
DTSTAMP:20260424T130044
CREATED:20250302T013828Z
LAST-MODIFIED:20250302T013828Z
UID:1340-1742947200-1743033599@eviction-lefilm.ca
SUMMARY:Alliance française Bogotá
DESCRIPTION:
URL:https://eviction-lefilm.ca/event/alliance-francaise-bogota/
LOCATION:Alliance française Bogotá\, Bogotá\, Colombia
END:VEVENT
BEGIN:VEVENT
DTSTART;VALUE=DATE:20250321
DTEND;VALUE=DATE:20250322
DTSTAMP:20260424T130044
CREATED:20250302T013351Z
LAST-MODIFIED:20250302T013351Z
UID:1337-1742515200-1742601599@eviction-lefilm.ca
SUMMARY:Sala Gómez Miralles
DESCRIPTION:
URL:https://eviction-lefilm.ca/event/sala-gomez-miralles/
LOCATION:Sala Gómez Miralles\, Avenida 9\, calle 11\, San José\, Costa Rica
END:VEVENT
BEGIN:VEVENT
DTSTART;TZID=UTC:20250317T130000
DTEND;TZID=UTC:20250317T170000
DTSTAMP:20260424T130044
CREATED:20250130T174308Z
LAST-MODIFIED:20250311T161524Z
UID:1299-1742216400-1742230800@eviction-lefilm.ca
SUMMARY:Semaine des Sciences humaines
DESCRIPTION:
URL:https://eviction-lefilm.ca/event/semaine-des-sciences-humaines/
LOCATION:Auditorium du Cégep de l’Outaouais (Campus Gabrielle-Roy)\, 333 Bd de la Cité-des-Jeunes\, Gatineau\, Québec\, J8Y 6M4\, Canada
END:VEVENT
BEGIN:VEVENT
DTSTART;TZID=UTC:20250314T173000
DTEND;TZID=UTC:20250314T220000
DTSTAMP:20260424T130044
CREATED:20250204T193923Z
LAST-MODIFIED:20250226T154956Z
UID:1306-1741973400-1741989600@eviction-lefilm.ca
SUMMARY:QPIRG-McGill
DESCRIPTION:
URL:https://eviction-lefilm.ca/event/qpirg-mcgill/
LOCATION:Peel Street Cinema de l’Université McGill\, 3475 Rue Peel\, Montréal\, Québec\, H3A 1W7\, Canada
END:VEVENT
BEGIN:VEVENT
DTSTART;TZID=UTC:20250313T173000
DTEND;TZID=UTC:20250313T200000
DTSTAMP:20260424T130044
CREATED:20241206T171721Z
LAST-MODIFIED:20250129T165908Z
UID:1270-1741887000-1741896000@eviction-lefilm.ca
SUMMARY:CODEM/CJE du Plateau
DESCRIPTION:
URL:https://eviction-lefilm.ca/event/codem-cje-du-plateau/
LOCATION:CODEM/CJE du Plateau\, 425 Rue Sherbrooke est\, Montréal\, Québec\, H2L 1J9\, Canada
END:VEVENT
BEGIN:VEVENT
DTSTART;TZID=UTC:20250308T143000
DTEND;TZID=UTC:20250308T170000
DTSTAMP:20260424T130044
CREATED:20250225T175429Z
LAST-MODIFIED:20250225T175615Z
UID:1316-1741444200-1741453200@eviction-lefilm.ca
SUMMARY:Festival Écrans Mixtes
DESCRIPTION:
URL:https://eviction-lefilm.ca/event/festival-ecrans-mixtes/
LOCATION:Le Lavoir Public\, 4 Imp. Flesselles\, Lyon\, 69001\, France
END:VEVENT
BEGIN:VEVENT
DTSTART;TZID=UTC:20250227T190000
DTEND;TZID=UTC:20250227T230000
DTSTAMP:20260424T130044
CREATED:20250129T165351Z
LAST-MODIFIED:20250129T165351Z
UID:1295-1740682800-1740697200@eviction-lefilm.ca
SUMMARY:Comité autonome accessibilité logement
DESCRIPTION:
URL:https://eviction-lefilm.ca/event/comite-autonome-accessibilite-logement/
LOCATION:Café Oscar\, Cégep de la Gaspésie et des Îles\, 96 Rue Jacques Cartier\, Gaspé\, Québec\, G4X 2S8\, Canada
END:VEVENT
BEGIN:VEVENT
DTSTART;TZID=UTC:20241207T163000
DTEND;TZID=UTC:20241207T170000
DTSTAMP:20260424T130044
CREATED:20241106T021012Z
LAST-MODIFIED:20241106T021012Z
UID:1205-1733589000-1733590800@eviction-lefilm.ca
SUMMARY:Cinéma Utopia Borderouge
DESCRIPTION:
URL:https://eviction-lefilm.ca/event/cinema-utopia-borderouge/
LOCATION:Cinéma Utopia Borderouge\, 59 Av. Maurice Bourgès-Maunoury\, Toulouse\, 31200\, France
END:VEVENT
BEGIN:VEVENT
DTSTART;TZID=UTC:20241206T203000
DTEND;TZID=UTC:20241206T233000
DTSTAMP:20260424T130044
CREATED:20241106T021509Z
LAST-MODIFIED:20241113T155443Z
UID:1212-1733517000-1733527800@eviction-lefilm.ca
SUMMARY:Cinéma pour toustes
DESCRIPTION:
URL:https://eviction-lefilm.ca/event/cinema-pour-toustes/
LOCATION:La Genette Verte\, 33 Av. Jean Monestier\, Florac-Trois-Rivières\, 48400\, France
END:VEVENT
BEGIN:VEVENT
DTSTART;TZID=UTC:20241205T140000
DTEND;TZID=UTC:20241205T170000
DTSTAMP:20260424T130044
CREATED:20241205T171722Z
LAST-MODIFIED:20241205T171722Z
UID:1265-1733407200-1733418000@eviction-lefilm.ca
SUMMARY:Cinéma Le Trianon
DESCRIPTION:
URL:https://eviction-lefilm.ca/event/cinema-le-trianon/
LOCATION:Cinéma Le Trianon Mende\, 5B Bd Lucien Arnault\, Mende\, 48000\, France
END:VEVENT
BEGIN:VEVENT
DTSTART;TZID=UTC:20241204T200000
DTEND;TZID=UTC:20241204T230000
DTSTAMP:20260424T130044
CREATED:20241112T154919Z
LAST-MODIFIED:20241205T171928Z
UID:1240-1733342400-1733353200@eviction-lefilm.ca
SUMMARY:Cinéma Le Trianon
DESCRIPTION:
URL:https://eviction-lefilm.ca/event/marvejols/
LOCATION:Cinéma Le Trianon Marvejols\, 4 Rue Paul Mendras\, Marvejols\, 48100\, France
END:VEVENT
BEGIN:VEVENT
DTSTART;TZID=UTC:20241204T140000
DTEND;TZID=UTC:20241204T170000
DTSTAMP:20260424T130044
CREATED:20241108T170121Z
LAST-MODIFIED:20241126T134119Z
UID:1233-1733320800-1733331600@eviction-lefilm.ca
SUMMARY:Ciné-théâtre
DESCRIPTION:
URL:https://eviction-lefilm.ca/event/cine-theatre/
LOCATION:Ciné-théâtre\, 130 Rue Théophile Roussel\, Saint-Chély-d'Apcher\, 48200\, France
END:VEVENT
BEGIN:VEVENT
DTSTART;TZID=UTC:20241202T200000
DTEND;TZID=UTC:20241202T220000
DTSTAMP:20260424T130044
CREATED:20241106T021350Z
LAST-MODIFIED:20241113T160322Z
UID:1209-1733169600-1733176800@eviction-lefilm.ca
SUMMARY:Cinéma Utopia Sainte-Bernadette
DESCRIPTION:
URL:https://eviction-lefilm.ca/event/cinema-utopia-sainte-bernadette/
LOCATION:Cinéma Utopia Sainte-Bernadette\, 5 Av. du Dr Pezet\, Montpellier\, 34090\, France
END:VEVENT
BEGIN:VEVENT
DTSTART;TZID=UTC:20241129T203000
DTEND;TZID=UTC:20241129T230000
DTSTAMP:20260424T130044
CREATED:20241108T165947Z
LAST-MODIFIED:20241113T160938Z
UID:1230-1732912200-1732921200@eviction-lefilm.ca
SUMMARY:Cinéma Le Six n'étoiles
DESCRIPTION:
URL:https://eviction-lefilm.ca/event/cinema-le-six-netoiles/
LOCATION:Cinéma Le Six n’étoiles\, 48 Rue République\, Six-Fours-les-Plages\, 83140\, France
END:VEVENT
END:VCALENDAR