BEGIN:VCALENDAR
VERSION:2.0
PRODID:-//&Eacute;viction - ECPv6.15.20//NONSGML v1.0//EN
CALSCALE:GREGORIAN
METHOD:PUBLISH
X-ORIGINAL-URL:https://eviction-lefilm.ca
X-WR-CALDESC:Événements pour &Eacute;viction
REFRESH-INTERVAL;VALUE=DURATION:PT1H
X-Robots-Tag:noindex
X-PUBLISHED-TTL:PT1H
BEGIN:VTIMEZONE
TZID:UTC
BEGIN:STANDARD
TZOFFSETFROM:+0000
TZOFFSETTO:+0000
TZNAME:UTC
DTSTART:20230101T000000
END:STANDARD
END:VTIMEZONE
BEGIN:VEVENT
DTSTART;TZID=UTC:20240602T150000
DTEND;TZID=UTC:20240602T170000
DTSTAMP:20260425T222435
CREATED:20240522T220615Z
LAST-MODIFIED:20240522T220615Z
UID:1034-1717340400-1717347600@eviction-lefilm.ca
SUMMARY:Cinéma Moderne
DESCRIPTION:
URL:https://eviction-lefilm.ca/event/cinema-moderne-3/
LOCATION:Cinéma Moderne\, 5150 Boul. Saint-Laurent\, Montréal\, Québec\, H2T 1R8\, Canada
END:VEVENT
BEGIN:VEVENT
DTSTART;TZID=UTC:20240602T160000
DTEND;TZID=UTC:20240602T183000
DTSTAMP:20260425T222435
CREATED:20240505T185633Z
LAST-MODIFIED:20240708T141429Z
UID:926-1717344000-1717353000@eviction-lefilm.ca
SUMMARY:Cinémathèque québécoise
DESCRIPTION:
URL:https://eviction-lefilm.ca/event/cinematheque-2-2-2/
LOCATION:Cinémathèque québécoise\, 335 Boul. de Maisonneuve E\, Montréal\, Québec\, H2X 1K1\, Canada
END:VEVENT
BEGIN:VEVENT
DTSTART;TZID=UTC:20240604T193000
DTEND;TZID=UTC:20240604T213000
DTSTAMP:20260425T222435
CREATED:20240527T213204Z
LAST-MODIFIED:20240708T141415Z
UID:1060-1717529400-1717536600@eviction-lefilm.ca
SUMMARY:Cinémathèque québécoise
DESCRIPTION:
URL:https://eviction-lefilm.ca/event/cinematheque-7/
LOCATION:Cinémathèque québécoise\, 335 Boul. de Maisonneuve E\, Montréal\, Québec\, H2X 1K1\, Canada
END:VEVENT
BEGIN:VEVENT
DTSTART;TZID=UTC:20240608T180000
DTEND;TZID=UTC:20240608T203000
DTSTAMP:20260425T222435
CREATED:20240522T220128Z
LAST-MODIFIED:20240522T221140Z
UID:1024-1717869600-1717878600@eviction-lefilm.ca
SUMMARY:Cinéma Public
DESCRIPTION:
URL:https://eviction-lefilm.ca/event/cinema-public-3/
LOCATION:Cinéma Public\, 505 Rue Jean-Talon E\, Montréal\, H2R 1T6\, Canada
END:VEVENT
BEGIN:VEVENT
DTSTART;TZID=UTC:20240610T173000
DTEND;TZID=UTC:20240610T200000
DTSTAMP:20260425T222435
CREATED:20240604T041332Z
LAST-MODIFIED:20240708T141404Z
UID:1062-1718040600-1718049600@eviction-lefilm.ca
SUMMARY:Cinémathèque québécoise
DESCRIPTION:
URL:https://eviction-lefilm.ca/event/cinematheque-8/
LOCATION:Cinémathèque québécoise\, 335 Boul. de Maisonneuve E\, Montréal\, Québec\, H2X 1K1\, Canada
END:VEVENT
BEGIN:VEVENT
DTSTART;TZID=UTC:20240613T190000
DTEND;TZID=UTC:20240613T210000
DTSTAMP:20260425T222435
CREATED:20240510T134950Z
LAST-MODIFIED:20240523T125026Z
UID:966-1718305200-1718312400@eviction-lefilm.ca
SUMMARY:Cinéma Triomphe
DESCRIPTION:
URL:https://eviction-lefilm.ca/event/cinema-triomphe/
LOCATION:Cinéma Triomphe\, 1100 Rue Yves-Blais\, Terrebonne\, Québec\, J6V 1P7\, Canada
END:VEVENT
BEGIN:VEVENT
DTSTART;TZID=UTC:20240614T160000
DTEND;TZID=UTC:20240614T190000
DTSTAMP:20260425T222435
CREATED:20240604T191146Z
LAST-MODIFIED:20240604T191146Z
UID:1065-1718380800-1718391600@eviction-lefilm.ca
SUMMARY:Cinéma Public
DESCRIPTION:
URL:https://eviction-lefilm.ca/event/cinema-public-4/
LOCATION:Cinéma Public\, 505 Rue Jean-Talon E\, Montréal\, H2R 1T6\, Canada
END:VEVENT
BEGIN:VEVENT
DTSTART;TZID=UTC:20240615T183000
DTEND;TZID=UTC:20240615T183000
DTSTAMP:20260425T222435
CREATED:20240510T135042Z
LAST-MODIFIED:20240522T215839Z
UID:970-1718476200-1718476200@eviction-lefilm.ca
SUMMARY:Cinéma Moderne
DESCRIPTION:
URL:https://eviction-lefilm.ca/event/cinema-moderne-2/
LOCATION:Cinéma Moderne\, 5150 Boul. Saint-Laurent\, Montréal\, Québec\, H2T 1R8\, Canada
END:VEVENT
BEGIN:VEVENT
DTSTART;TZID=UTC:20240621T180000
DTEND;TZID=UTC:20240621T220000
DTSTAMP:20260425T222435
CREATED:20240604T191221Z
LAST-MODIFIED:20240604T191221Z
UID:1067-1718992800-1719007200@eviction-lefilm.ca
SUMMARY:Cinéma Public
DESCRIPTION:
URL:https://eviction-lefilm.ca/event/cinema-public-5/
LOCATION:Cinéma Public\, 505 Rue Jean-Talon E\, Montréal\, H2R 1T6\, Canada
END:VEVENT
BEGIN:VEVENT
DTSTART;TZID=UTC:20240627T210000
DTEND;TZID=UTC:20240627T233000
DTSTAMP:20260425T222435
CREATED:20240612T192009Z
LAST-MODIFIED:20240612T192009Z
UID:1070-1719522000-1719531000@eviction-lefilm.ca
SUMMARY:RIDM / Théâtre de la Verdure
DESCRIPTION:
URL:https://eviction-lefilm.ca/event/ridm-theatre-de-la-verdure/
LOCATION:Théâtre de la Verdure\, 3939\, avenue du Parc-La Fontaine\, Montréal\, Québec\, H2L 0C7\, Canada
END:VEVENT
BEGIN:VEVENT
DTSTART;TZID=UTC:20240628T163000
DTEND;TZID=UTC:20240628T193000
DTSTAMP:20260425T222435
CREATED:20240626T151724Z
LAST-MODIFIED:20240626T151823Z
UID:1102-1719592200-1719603000@eviction-lefilm.ca
SUMMARY:Cinéma Public
DESCRIPTION:
URL:https://eviction-lefilm.ca/event/cinema-public-6/
LOCATION:Cinéma Public\, 505 Rue Jean-Talon E\, Montréal\, H2R 1T6\, Canada
END:VEVENT
END:VCALENDAR