BEGIN:VCALENDAR
VERSION:2.0
PRODID:-//&Eacute;viction - ECPv6.15.20//NONSGML v1.0//EN
CALSCALE:GREGORIAN
METHOD:PUBLISH
X-ORIGINAL-URL:https://eviction-lefilm.ca
X-WR-CALDESC:Événements pour &Eacute;viction
REFRESH-INTERVAL;VALUE=DURATION:PT1H
X-Robots-Tag:noindex
X-PUBLISHED-TTL:PT1H
BEGIN:VTIMEZONE
TZID:UTC
BEGIN:STANDARD
TZOFFSETFROM:+0000
TZOFFSETTO:+0000
TZNAME:UTC
DTSTART:20230101T000000
END:STANDARD
END:VTIMEZONE
BEGIN:VEVENT
DTSTART;TZID=UTC:20240918T120000
DTEND;TZID=UTC:20240918T140000
DTSTAMP:20260425T175827
CREATED:20240918T134913Z
LAST-MODIFIED:20240918T134913Z
UID:1173-1726660800-1726668000@eviction-lefilm.ca
SUMMARY:Cégep Saint-Laurent
DESCRIPTION:
URL:https://eviction-lefilm.ca/event/cegep-saint-laurent/
LOCATION:Cégep Saint-Laurent (local C-05)\, 625 Av. Sainte-Croix\, Saint-Laurent\, Québec\, H4L 3X7\, Canada
END:VEVENT
BEGIN:VEVENT
DTSTART;TZID=UTC:20240920T170000
DTEND;TZID=UTC:20240920T190000
DTSTAMP:20260425T175827
CREATED:20240708T141342Z
LAST-MODIFIED:20240920T201158Z
UID:1119-1726851600-1726858800@eviction-lefilm.ca
SUMMARY:Festival Journées féministes
DESCRIPTION:
URL:https://eviction-lefilm.ca/event/festival-journees-feministes/
LOCATION:Association Amazone\, Middaglijnstraat 10 Rue du Méridien\, Bruxelles\, 1210\, Belgique
END:VEVENT
BEGIN:VEVENT
DTSTART;TZID=UTC:20240920T190000
DTEND;TZID=UTC:20240920T210000
DTSTAMP:20260425T175827
CREATED:20240823T142950Z
LAST-MODIFIED:20240917T155054Z
UID:1154-1726858800-1726866000@eviction-lefilm.ca
SUMMARY:Université du Québec à Chicoutimi
DESCRIPTION:
URL:https://eviction-lefilm.ca/event/universite-du-quebec-a-chicoutimi/
LOCATION:Auditorium de l’UQÀC (local P0-5000)\, 555 Bd de l'Université\, Chicoutimi\, G7H 2B1\, Canada
END:VEVENT
BEGIN:VEVENT
DTSTART;TZID=UTC:20240921T180000
DTEND;TZID=UTC:20240921T180000
DTSTAMP:20260425T175827
CREATED:20240812T094941Z
LAST-MODIFIED:20240812T095304Z
UID:1147-1726941600-1726941600@eviction-lefilm.ca
SUMMARY:Queer Lisboa
DESCRIPTION:
URL:https://eviction-lefilm.ca/event/queer-lisboa/
LOCATION:Cinema São Jorge\, Av. da Liberdade 175\, Lisbonne\, Portugal
END:VEVENT
END:VCALENDAR